BEGIN:VCALENDAR
VERSION:2.0
PRODID:-//新長田まちづくり株式会社 - ECPv6.15.20//NONSGML v1.0//EN
CALSCALE:GREGORIAN
METHOD:PUBLISH
X-ORIGINAL-URL:https://www.shinnagata-stm.com
X-WR-CALDESC:新長田まちづくり株式会社 のイベント
REFRESH-INTERVAL;VALUE=DURATION:PT1H
X-Robots-Tag:noindex
X-PUBLISHED-TTL:PT1H
BEGIN:VTIMEZONE
TZID:Asia/Tokyo
BEGIN:STANDARD
TZOFFSETFROM:+0900
TZOFFSETTO:+0900
TZNAME:JST
DTSTART:20220101T000000
END:STANDARD
END:VTIMEZONE
BEGIN:VEVENT
DTSTART;VALUE=DATE:20230429
DTEND;VALUE=DATE:20230507
DTSTAMP:20260422T185806
CREATED:20230414T054016Z
LAST-MODIFIED:20230424T121147Z
UID:1307-1682726400-1683417599@www.shinnagata-stm.com
SUMMARY:「なかよし二人組　ローレル＆ハーディ特集」上映＠神戸映画資料館
DESCRIPTION:「なかよし二人組　ローレル＆ハーディ特集」\n4月29日（土）・30日（日）、5月3日（水・祝）〜6日（土） \n＊5月4日はキッズ・デー\n＊生伴奏付き上映や、フィルム映写の実演も。 \n神戸映画資料館（078-754-8039） \n神戸市長田区腕塚町5丁目5番1-201\nアスタくにづか1番館北棟2F
URL:https://www.shinnagata-stm.com/event/%e3%81%aa%e3%81%8b%e3%82%88%e3%81%97%e4%ba%8c%e4%ba%ba%e7%b5%84%e3%83%ad%e3%83%bc%e3%83%ac%e3%83%ab%ef%bc%86%e3%83%8f%e3%83%bc%e3%83%87%e3%82%a3%e7%89%b9%e9%9b%86/
LOCATION:神戸映画資料館\, 腕塚町5丁目5番1　アスタくにづか1番館北棟2F 201\, 神戸市長田区\, 兵庫県\, 6530036
CATEGORIES:通常イベント
ORGANIZER;CN="%EF%BC%AE%EF%BC%B0%EF%BC%AF%E6%B3%95%E4%BA%BA%E3%83%97%E3%83%A9%E3%83%8D%E3%83%83%E3%83%88%E6%98%A0%E7%94%BB%E4%BF%9D%E5%AD%98%E3%83%8D%E3%83%83%E3%83%88%E3%83%AF%E3%83%BC%E3%82%AF":MAILTO:info@kobe-eiga.net
END:VEVENT
BEGIN:VEVENT
DTSTART;TZID=Asia/Tokyo:20230509T100000
DTEND;TZID=Asia/Tokyo:20230509T113000
DTSTAMP:20260422T185806
CREATED:20230424T120758Z
LAST-MODIFIED:20230424T130145Z
UID:1362-1683626400-1683631800@www.shinnagata-stm.com
SUMMARY:5/9(火) 新・地域文化講座 『有馬 武庫 莵原 名所 豪商 獨案内の魁』@ふたば学舎
DESCRIPTION:新・地域文化講座 「『有馬 武庫 莵原 名所 豪商 獨案内の魁』～明治前期の阪神間案内～」\n講師：楠本利夫（元芦屋大学教授/国際関係学博士）\n\nふたば学舎2F多目的室2-A\n5/9(火) 10:00～11:30\n受講料：１回500円\n\n問合せ：ふたば学舎 078-646-8128
URL:https://www.shinnagata-stm.com/event/5-9%e7%81%ab-%e6%96%b0%e3%83%bb%e5%9c%b0%e5%9f%9f%e6%96%87%e5%8c%96%e8%ac%9b%e5%ba%a7-%e3%80%8e%e6%9c%89%e9%a6%ac-%e6%ad%a6%e5%ba%ab-%e8%8e%b5%e5%8e%9f-%e5%90%8d%e6%89%80-%e8%b1%aa%e5%95%86/
LOCATION:ふたば学舎\, 二葉町７丁目１−１８\, 神戸市長田区\, 兵庫県\, 653-0042\, 日本
END:VEVENT
BEGIN:VEVENT
DTSTART;TZID=Asia/Tokyo:20230513T100000
DTEND;TZID=Asia/Tokyo:20230513T120000
DTSTAMP:20260422T185806
CREATED:20230424T120340Z
LAST-MODIFIED:20230427T104848Z
UID:1358-1683972000-1683979200@www.shinnagata-stm.com
SUMMARY:5/13(土) ふたばおもちゃ病院 @ふたば学舎
DESCRIPTION:ふたばおもちゃ病院\n場所：ふたば学舎　1F会議室1-4 \n日時：5/13(土)10:00～12:00 \nふたば学舎では、こわれた「おもちゃ」の修理と、それに伴う「もの」の大切さを子供達に知ってもらうこと、\nその場がご家族同士や世代間の交流の場となる事を目的として「ふたばおもちゃ病院」を開催しています。\nおもちゃの診察・修理は、ふたば学舎主催「ふたばオヤジ塾」の卒業生が担当。 \n全国的に活動するﾎﾞﾗﾝﾃｨｱｸﾞﾙｰﾌﾟ「おもちゃドクター」の研修生として責任を持って診察致します。\n大切にしていたけど動かなくなってしまった、押し入れにしまったままのおもちゃなど、是非「ふたばおもちゃ病院」までお連れ下さい。 \n※受付は原則入院（お預かり）のみ・翌月退院（ご返却）とします\n※患者（おもちゃ）受付は、1家族につき2個までとします\n※入院費（修理代）は無料です（ただし交換部品等の実費のみ頂戴する場合があります） \n主催：ふたばおもちゃ病院\n協力：ふたば学舎／神戸・灘おもちゃの病院 \n（※5/19(金)10:00～12:00　宮川地域福祉センターでも実施 ） \n●お問合せ　TEL：078-646-8128
URL:https://www.shinnagata-stm.com/event/5-13%e5%9c%9f-%e3%81%b5%e3%81%9f%e3%81%b0%e3%81%8a%e3%82%82%e3%81%a1%e3%82%83%e7%97%85%e9%99%a2-%e3%81%b5%e3%81%9f%e3%81%b0%e5%ad%a6%e8%88%8e/
LOCATION:ふたば学舎\, 二葉町７丁目１−１８\, 神戸市長田区\, 兵庫県\, 653-0042\, 日本
CATEGORIES:通常イベント
END:VEVENT
BEGIN:VEVENT
DTSTART;TZID=Asia/Tokyo:20230524T100000
DTEND;TZID=Asia/Tokyo:20230524T130000
DTSTAMP:20260422T185806
CREATED:20230424T115505Z
LAST-MODIFIED:20230525T131706Z
UID:1356-1684922400-1684933200@www.shinnagata-stm.com
SUMMARY:5/24(水)しんながた新鮮市 @新長田合同庁舎１F
DESCRIPTION:しんながた新鮮市\n新長田合同庁舎１F\n東エントランス入ってすぐ！\n10:00～13:00 \n神戸産の美味しい春野菜！ \n問合せ：神戸農林振興事務所　農政振興課\ntel.078-742-8325
URL:https://www.shinnagata-stm.com/event/5-24%e6%b0%b4%e3%81%97%e3%82%93%e3%81%aa%e3%81%8c%e3%81%9f%e6%96%b0%e9%ae%ae%e5%b8%82-%e6%96%b0%e9%95%b7%e7%94%b0%e5%90%88%e5%90%8c%e5%ba%81%e8%88%8e%ef%bc%91f/
LOCATION:新長田合同庁舎\, 二葉町５丁目１−３２\, 神戸市長田区\, 兵庫県\, 653-0042\, 日本
CATEGORIES:定期開催イベント
END:VEVENT
BEGIN:VEVENT
DTSTART;TZID=Asia/Tokyo:20230527T110000
DTEND;TZID=Asia/Tokyo:20230527T170000
DTSTAMP:20260422T185806
CREATED:20230414T060316Z
LAST-MODIFIED:20230508T043013Z
UID:1319-1685185200-1685206800@www.shinnagata-stm.com
SUMMARY:5/27(土)「第50回神戸まつり長田フェスティバル」11:00～17:00＠若松公園（鉄人広場）
DESCRIPTION:第50回神戸まつり長田フェスティバル\n5/27(土)11:00～17:00（予定）小雨決行\n若松公園（鉄人広場ほか） \nようやく帰ってきました！４年ぶりの開催となる長田フェスティバルは記念すべき第５０回をむかえます！ \n \n \n \n \n問合せ：神戸まつり長田フェスティバル推進会　078-362-7398　（平日11-17時）\n協　力：KOBE鉄人PROJECT
URL:https://www.shinnagata-stm.com/event/%e7%ac%ac50%e5%9b%9e%e7%a5%9e%e6%88%b8%e3%81%be%e3%81%a4%e3%82%8a%e9%95%b7%e7%94%b0%e3%83%95%e3%82%a7%e3%82%b9%e3%83%86%e3%82%a3%e3%83%90%e3%83%ab/
LOCATION:鉄人広場\, 若松町6-4\, 神戸市長田区\, 兵庫県\, 653-0039\, Japan
CATEGORIES:定期開催イベント
END:VEVENT
BEGIN:VEVENT
DTSTART;TZID=Asia/Tokyo:20230527T130000
DTEND;TZID=Asia/Tokyo:20230527T170000
DTSTAMP:20260422T185806
CREATED:20230414T060908Z
LAST-MODIFIED:20230414T062220Z
UID:1322-1685192400-1685206800@www.shinnagata-stm.com
SUMMARY:5/27(土)「第１回神戸・沖縄いちゃりばちょ～で～祭」13:00～17:00＠本町筋商店街
DESCRIPTION:第１回神戸・沖縄いちゃりばちょ～で～祭\n5/27(土)13:00～17:00\n新長田本町筋商店街　ビッグハート広場\n（雨天時：新長田本町筋商店街アーケード内にて実施） \nいちゃりばちょ～で～（一度会ったら皆兄弟）♪ \n神戸・新長田に沖縄から南風が吹く。沖縄ミュージシャン４人と共に、神戸・沖縄交流イベント開催！ \n問合せ：西プロ　西泊嘉則オフイシャル　078-386-5669
URL:https://www.shinnagata-stm.com/event/%e7%ac%ac%ef%bc%91%e5%9b%9e%e7%a5%9e%e6%88%b8%e3%83%bb%e6%b2%96%e7%b8%84%e3%81%84%e3%81%a1%e3%82%83%e3%82%8a%e3%81%b0%e3%81%a1%e3%82%87%ef%bd%9e%e3%81%a7%ef%bd%9e%e7%a5%ad/
LOCATION:ビックハート広場（本町筋商店街）\, 久保町２丁目３\, 神戸市長田区\, 兵庫県\, 653-0041\, 日本
CATEGORIES:通常イベント
END:VEVENT
BEGIN:VEVENT
DTSTART;TZID=Asia/Tokyo:20230528T090000
DTEND;TZID=Asia/Tokyo:20230528T121500
DTSTAMP:20260422T185806
CREATED:20230424T121513Z
LAST-MODIFIED:20230424T122108Z
UID:1367-1685264400-1685276100@www.shinnagata-stm.com
SUMMARY:5/28(日)第12回 親子で楽しめる！長田駒ヶ林漁業体験ツアー
DESCRIPTION:第12回 親子で楽しめる！長田駒ヶ林漁業体験ツアー\n5/28(日)9:00～12:15頃（8:30から受付開始） \n＠駒ヶ林浦漁業会集会所 \n漁の見学や、魚とのふれあいを通して漁師さんのお仕事が体験できるよ！ \n定員20組（小学生1名と保護者1名で1組）※抽選　料金：1組1\,000円 \nイベント内容\n●底引き網漁の見学：漁船に乗って、実際に漁をしている様子を見学します。 \n●ロープ編み体験：漁網の一部や船を港へ繋ぎとめておく際に使用されているロープの編み方を漁師さんから教わります。 \n●漁船見学：漁船の操舵室を見学しながら、船内で写真撮影ができます。 \n●タッチプール：プールで泳いでいるたくさんの魚を触ることができます。 \n問合せ：神戸市総合コールセンター0570-083330または078-333-3330\n（年中無休 8:00～21:00）
URL:https://www.shinnagata-stm.com/event/5-28%e6%97%a5%e7%ac%ac12%e5%9b%9e-%e8%a6%aa%e5%ad%90%e3%81%a7%e6%a5%bd%e3%81%97%e3%82%81%e3%82%8b%ef%bc%81%e9%95%b7%e7%94%b0%e9%a7%92%e3%83%b6%e6%9e%97%e6%bc%81%e6%a5%ad%e4%bd%93%e9%a8%93%e3%83%84/
LOCATION:駒ヶ林浦漁業会集会所\, 長田区駒ケ林町4丁目3-2\, 神戸市\, 兵庫県
CATEGORIES:定期開催イベント
END:VEVENT
BEGIN:VEVENT
DTSTART;TZID=Asia/Tokyo:20230528T100000
DTEND;TZID=Asia/Tokyo:20230528T150000
DTSTAMP:20260422T185806
CREATED:20230414T062745Z
LAST-MODIFIED:20230414T062853Z
UID:1333-1685268000-1685286000@www.shinnagata-stm.com
SUMMARY:5/28(日)駒ヶ林でたとこフリマ ＠六間道５丁目商店街 10:00～15:00
DESCRIPTION:駒ヶ林でたとこフリマ\n六間道５丁目商店街\n5/28(日)10:00～15:00 \n毎月最終日曜日開催。\nアーケードの下なので雨でも安心。掘り出し物が見つかるかな？ \n問合せ：神戸フリーマーケット協会\ntel.078-647-7223（祝日を除く（火）（金）14:00～17:00）
URL:https://www.shinnagata-stm.com/event/5-28%e9%a7%92%e3%83%b6%e6%9e%97%e3%81%a7%e3%81%9f%e3%81%a8%e3%81%93%e3%83%95%e3%83%aa%e3%83%9e/
LOCATION:六間道５丁目商店街\, 二葉町５\, 神戸市長田区\, 兵庫県\, 653-0043\, 日本
END:VEVENT
BEGIN:VEVENT
DTSTART;TZID=Asia/Tokyo:20230528T110000
DTEND;TZID=Asia/Tokyo:20230528T160000
DTSTAMP:20260422T185806
CREATED:20230328T134902Z
LAST-MODIFIED:20230414T062533Z
UID:1233-1685271600-1685289600@www.shinnagata-stm.com
SUMMARY:5/28(日)毎月28日は新長田1番街の日11:00～16:00
DESCRIPTION:毎月28日は新長田1番街の日\n5/28(日)11:00～16:00頃 \n新長田１番街商店街 \n１番街商店街でお買物。毎月２８日は嬉しい楽しいサプライズを予定しています！ \n問合せ：新長田１番街商店街事務所\n078-631-7606
URL:https://www.shinnagata-stm.com/event/%e6%af%8e%e6%9c%8828%e6%97%a5%e3%81%af%e6%96%b0%e9%95%b7%e7%94%b01%e7%95%aa%e8%a1%97%e3%81%ae%e6%97%a5/
LOCATION:新長田1番街商店街\, 大橋町５丁目１−１\, 神戸市長田区\, 兵庫県\, 653-0037
CATEGORIES:定期開催イベント
END:VEVENT
END:VCALENDAR